BEGIN:VCALENDAR
VERSION:2.0
PRODID:-//YHS - ECPv6.15.20//NONSGML v1.0//EN
CALSCALE:GREGORIAN
METHOD:PUBLISH
X-WR-CALNAME:YHS
X-ORIGINAL-URL:https://www.yhsfoundation.org
X-WR-CALDESC:Events for YHS
REFRESH-INTERVAL;VALUE=DURATION:PT1H
X-Robots-Tag:noindex
X-PUBLISHED-TTL:PT1H
BEGIN:VTIMEZONE
TZID:America/New_York
BEGIN:DAYLIGHT
TZOFFSETFROM:-0500
TZOFFSETTO:-0400
TZNAME:EDT
DTSTART:20130310T070000
END:DAYLIGHT
BEGIN:STANDARD
TZOFFSETFROM:-0400
TZOFFSETTO:-0500
TZNAME:EST
DTSTART:20131103T060000
END:STANDARD
BEGIN:DAYLIGHT
TZOFFSETFROM:-0500
TZOFFSETTO:-0400
TZNAME:EDT
DTSTART:20140309T070000
END:DAYLIGHT
BEGIN:STANDARD
TZOFFSETFROM:-0400
TZOFFSETTO:-0500
TZNAME:EST
DTSTART:20141102T060000
END:STANDARD
BEGIN:DAYLIGHT
TZOFFSETFROM:-0500
TZOFFSETTO:-0400
TZNAME:EDT
DTSTART:20150308T070000
END:DAYLIGHT
BEGIN:STANDARD
TZOFFSETFROM:-0400
TZOFFSETTO:-0500
TZNAME:EST
DTSTART:20151101T060000
END:STANDARD
BEGIN:DAYLIGHT
TZOFFSETFROM:-0500
TZOFFSETTO:-0400
TZNAME:EDT
DTSTART:20160313T070000
END:DAYLIGHT
BEGIN:STANDARD
TZOFFSETFROM:-0400
TZOFFSETTO:-0500
TZNAME:EST
DTSTART:20161106T060000
END:STANDARD
END:VTIMEZONE
BEGIN:VEVENT
DTSTART;TZID=America/New_York:20151219T190000
DTEND;TZID=America/New_York:20151219T230000
DTSTAMP:20260425T063329
CREATED:20151018T012528Z
LAST-MODIFIED:20151018T014907Z
UID:720-1450551600-1450566000@www.yhsfoundation.org
SUMMARY:Save the Date for our Christmas Banquet: Food\, Music\, Theatrical Play
DESCRIPTION:  \n\n\nView image | gettyimages.com\n\n  \nYou are cordially invited to join us for a festive fundraising Christmas banquet on December 19th\, 2015 from 7:00-11:00 PM.  Our production of The Case of Roni Jenkins will headline the night.  You won’t want to miss it! Come enjoy dinner\, music\, and our play.  We will also hold a raffle where you will have a chance to win gift cards to local restaurants\, movie tickets\, a tablet\, and much more!  We look forward to seeing you. Save the Date! \nA link will soon be available for tickets. Any questions contact us at Team@YHSFoundation.org.
URL:https://www.yhsfoundation.org/events/thecaseofronijenkins/
LOCATION:TBA\, Uniondale\, NY\, United States
END:VEVENT
BEGIN:VEVENT
DTSTART;TZID=America/New_York:20150516T130000
DTEND;TZID=America/New_York:20150516T141500
DTSTAMP:20260425T063329
CREATED:20150414T001821Z
LAST-MODIFIED:20150417T023425Z
UID:662-1431781200-1431785700@www.yhsfoundation.org
SUMMARY:Theatrical Play for Fundraising
DESCRIPTION:In an effort to raise funds for the upcoming 2015-2016 school year\, Young Haitian Scholars Inc. is hosting a theatrical play in partnership with YC Youth of Cornerstone Church of God.  The play: On the Road to Salvation is based on the story of the Saul of Tarsus on his way to Damascus.  Saul was a ruthless persecutor of the early Christians. This play depicts the turmoil he caused in Rome and the division he caused among the believers.  Join us on this journey and see how his plans were interrupted and how he was ultimately led to salvation. \nClick here to purchase tickets before they sell out! \nShowtimes: 1:00 | 3:00 | 5:00 PM
URL:https://www.yhsfoundation.org/events/theroadtosalvationplay/
LOCATION:Producers Club Royal Theater\, 358 W 44th St\, New York\, NY\, 10036\, United States
END:VEVENT
BEGIN:VEVENT
DTSTART;TZID=America/New_York:20141121T190000
DTEND;TZID=America/New_York:20141121T230000
DTSTAMP:20260425T063329
CREATED:20141025T020312Z
LAST-MODIFIED:20141112T144838Z
UID:187-1416596400-1416610800@www.yhsfoundation.org
SUMMARY:Pre Thanksgiving Charity Event
DESCRIPTION:PLEASE PURCHASE TICKETS HERE
URL:https://www.yhsfoundation.org/events/187/
LOCATION:RUSTIK TAVERN\, 471 Dekalb Avenue\, Brooklyn\, NY\, 11205\, United States
ATTACH;FMTTYPE=image/jpeg:https://www.yhsfoundation.org/wp-content/uploads/2014/11/event_flyer.jpg
ORGANIZER;CN="Young Haitian Scholars Inc.":MAILTO:team@yhsfoundation.org
END:VEVENT
END:VCALENDAR